BEGIN:VCALENDAR
VERSION:2.0
PRODID:-//Rīgas Centrālā bibliotēka - ECPv6.15.12.2//NONSGML v1.0//EN
CALSCALE:GREGORIAN
METHOD:PUBLISH
X-WR-CALNAME:Rīgas Centrālā bibliotēka
X-ORIGINAL-URL:https://www.rcb.lv
X-WR-CALDESC:Pasākumi priekš Rīgas Centrālā bibliotēka
REFRESH-INTERVAL;VALUE=DURATION:PT1H
X-Robots-Tag:noindex
X-PUBLISHED-TTL:PT1H
BEGIN:VTIMEZONE
TZID:Europe/Riga
BEGIN:DAYLIGHT
TZOFFSETFROM:+0200
TZOFFSETTO:+0300
TZNAME:EEST
DTSTART:20250330T010000
END:DAYLIGHT
BEGIN:STANDARD
TZOFFSETFROM:+0300
TZOFFSETTO:+0200
TZNAME:EET
DTSTART:20251026T010000
END:STANDARD
BEGIN:DAYLIGHT
TZOFFSETFROM:+0200
TZOFFSETTO:+0300
TZNAME:EEST
DTSTART:20260329T010000
END:DAYLIGHT
BEGIN:STANDARD
TZOFFSETFROM:+0300
TZOFFSETTO:+0200
TZNAME:EET
DTSTART:20261025T010000
END:STANDARD
BEGIN:DAYLIGHT
TZOFFSETFROM:+0200
TZOFFSETTO:+0300
TZNAME:EEST
DTSTART:20270328T010000
END:DAYLIGHT
BEGIN:STANDARD
TZOFFSETFROM:+0300
TZOFFSETTO:+0200
TZNAME:EET
DTSTART:20271031T010000
END:STANDARD
END:VTIMEZONE
BEGIN:VEVENT
DTSTART;TZID=Europe/Riga:20260425T120000
DTEND;TZID=Europe/Riga:20260425T140000
DTSTAMP:20260420T031015
CREATED:20260417T111657Z
LAST-MODIFIED:20260417T112737Z
UID:182144-1777118400-1777125600@www.rcb.lv
SUMMARY:Starptautiskā cirka diena “Pārdaugavā’’
DESCRIPTION:RCB filiālbibliotēkā “Pārdaugava” (Dzirciema ielā 26) “Mazo un atjautīgo klubs” aicina bērnus uz kopīgu darbošanos. Bibliotēku nedēļā notiks pasākums\, kurš būs veltīts Starptautiskajai cirka dienai! Būs iespēja iejusties cirka atmosfērā un piedalīties darbnīcā. \nAicinām visus interesentus piedalīties mūsu pasākumos! \nPasākums tiks fotografēts/filmēts. Fotografētie/filmētie materiāli tiks izmantoti RCB publicitātes vajadzībām un sabiedrības informēšanai\, publicējot tos RCB tīmekļvietnē\, profilos sociālajos medijos\, kā arī citos publicitātes materiālos. Personas datu apstrādes pārzinis: Rīgas Centrālā bibliotēka\, Brīvības iela 49/53\, tālrunis 67037121\, rcb@riga.lv. Informācija par personas datu apstrādi pieejama RCB un RCB tīmekļvietnē. \nBibliotēkas darba laiks: P\, O\, C: 11.00–19.00\, T\, Pk: 10.00–18.00\, S: 10.00–17.00\, Sv: slēgts \nKontaktinformācija: tālr.: 67037423\, e-pasts rcb.pardaugava@riga.lv
URL:https://www.rcb.lv/event/starptautiska-cirka-diena-pardaugava/
LOCATION:RCB filiālbibliotēka “Pārdaugava”\, Dzirciema iela 26\, Rīga
CATEGORIES:Pasākumi bērniem
ATTACH;FMTTYPE=image/png:https://www.rcb.lv/wp-content/uploads/2026/04/Gramatas-jubileja-klubs-zimesanai-8.png
END:VEVENT
END:VCALENDAR