BEGIN:VCALENDAR
VERSION:2.0
PRODID:-//Rīgas Centrālā bibliotēka - ECPv6.15.12.2//NONSGML v1.0//EN
CALSCALE:GREGORIAN
METHOD:PUBLISH
X-ORIGINAL-URL:https://www.rcb.lv
X-WR-CALDESC:Pasākumi priekš Rīgas Centrālā bibliotēka
REFRESH-INTERVAL;VALUE=DURATION:PT1H
X-Robots-Tag:noindex
X-PUBLISHED-TTL:PT1H
BEGIN:VTIMEZONE
TZID:Europe/Riga
BEGIN:DAYLIGHT
TZOFFSETFROM:+0200
TZOFFSETTO:+0300
TZNAME:EEST
DTSTART:20250330T010000
END:DAYLIGHT
BEGIN:STANDARD
TZOFFSETFROM:+0300
TZOFFSETTO:+0200
TZNAME:EET
DTSTART:20251026T010000
END:STANDARD
BEGIN:DAYLIGHT
TZOFFSETFROM:+0200
TZOFFSETTO:+0300
TZNAME:EEST
DTSTART:20260329T010000
END:DAYLIGHT
BEGIN:STANDARD
TZOFFSETFROM:+0300
TZOFFSETTO:+0200
TZNAME:EET
DTSTART:20261025T010000
END:STANDARD
BEGIN:DAYLIGHT
TZOFFSETFROM:+0200
TZOFFSETTO:+0300
TZNAME:EEST
DTSTART:20270328T010000
END:DAYLIGHT
BEGIN:STANDARD
TZOFFSETFROM:+0300
TZOFFSETTO:+0200
TZNAME:EET
DTSTART:20271031T010000
END:STANDARD
END:VTIMEZONE
BEGIN:VEVENT
DTSTART;VALUE=DATE:20260422
DTEND;VALUE=DATE:20260426
DTSTAMP:20260420T183051
CREATED:20260420T071635Z
LAST-MODIFIED:20260420T105242Z
UID:182181-1776816000-1777161599@www.rcb.lv
SUMMARY:Ziedu prieks starp grāmatām
DESCRIPTION:Svētkos cits citu iepriecinām ar ziediem\, tādēļ Rīgas Centrālā bibliotēka Bibliotēku nedēļā no 22. aprīļa līdz 25. aprīlim aicina lasītājus piedalīties aktivitātē “Ziedu prieks starp grāmatām”\, kurā jebkurš bibliotēkas apmeklētājs varēs apgleznot īpašu ziediņu\, ko uzdāvināt bibliotēkai vai paturēt sev. \n \nInformāciju un foto sagatavoja Rīgas Centrālās bibliotēkas Lasītāju apkalpošanas nodaļas galvenās bibliotekāres Elza Āboliņa un Žanna Novicka.
URL:https://www.rcb.lv/event/ziedu-prieks-starp-gramatam/
LOCATION:Rīgas Centrālā bibliotēka\, Brīvības iela 49/53
CATEGORIES:Pasākumi
ATTACH;FMTTYPE=image/jpeg:https://www.rcb.lv/wp-content/uploads/2026/04/ziedu_prieks_starp_gramatam_RCB-scaled.jpg
END:VEVENT
END:VCALENDAR